BEGIN:VCALENDAR
VERSION:2.0
PRODID:Events Booking
BEGIN:VEVENT
UID:69e6bae1a691e
SUMMARY:32. Actualización en Derecho de la Competencia (CLU) - Mercados di
 gitales: Cumpla la normativa
DESCRIPTION:
LOCATION:Lagerstrasse 2
DTSTART:20251001T220000Z
DTEND:20251001T220000Z
DTSTAMP:20241209T094024Z
ORGANIZER;CN=AGON PARTNERS ACADEMICS & EVENTS:MAILTO:mail@agon-partners.com
GEO:47.377443;8.534212
X-APPLE-STRUCTURED-LOCATION;VALUE=URI;X-ADDRESS=Lagerstrasse 2;X-APPLE-RADI
 US=72;X-TITLE=Pädagogische Hochschule Zürich:47.377443;8.534212
END:VEVENT
END:VCALENDAR