BEGIN:VCALENDAR
VERSION:2.0
PRODID:Events Booking
BEGIN:VEVENT
UID:69ea2f4479122
SUMMARY:Infoanlass: CAS Künstliche Intelligenz und Compliance - 05.05.202
 6
DESCRIPTION:Infoveranstaltung: In diesem CAS lernen Sie\, wie sich KI strat
 egisch\, regelkonform und sicher im Bereich der Compliance einsetzen und e
 ntwickeln lässt.
 Sprache: Deutsch
DTSTART:20260505T103000Z
DTEND:20260505T110000Z
DTSTAMP:20250219T092016Z
ORGANIZER;CN=AGON PARTNERS ACADEMICS & EVENTS:MAILTO:mail@agon-partners.com
END:VEVENT
END:VCALENDAR